Workbook

Sheet ΠΙΝΑΚΑΣ 1. ΟΕΕ
A1: ΠΙΝΑΚΑΣ 1. : ΑΝΑΛΥΤΙΚΟΣ ΚΑΤΑΛΟΓΟΣ ΔΑΠΑΝΩΝ & ΤΩΝ ΑΝΤΙΣΤΟΙΧΩΝ ΛΟΓΙΣΤΙΚΩΝ ΑΠΟΔΕΙΚΤΙΚΩΝ ΕΓΓΡΑΦΩΝ - ΠΙΝΑΚΑΣ ΕΚΤΕΛΕΣΘΕΙΣΩΝ ΕΡΓΑΣΙΩΝ
A2: ΤΙΤΛΟΣ ΠΡΑΞΗΣ:
A3: ΠΕΡΙΟΧΗ:
A4: ΑΡΙΘΜ. ΑΠΟΦ. ΕΝΤΑΞΗΣ:
A5: ΑΡΙΘΜ. ΑΠΟΦ. ΧΡΗΜΑΤΟΔΟΤΗΣΗΣ:
A6: ΔΙΚΑΙΟΥΧΟΣ:
A7: ΚΩΔΙΚΟΣ ΟΠΣ (MIS):
A8: A/A | B8: ΚΑΤΗΓΟΡΙΑ ΔΑΠΑΝΗΣ | C8: κωδ. (κυρίως για κτηριακά) | D8: ΕΙΔΟΣ ΕΡΓΑΣΙΑΣ | E8: ΜΟΝΑΔΑ ΜΕΤΡΗΣΗΣ | F8: ΣΤΟΙΧΕΙΑ ΣΥΜΦΩΝΑ ΜΕ ΤΟΝ ΕΓΚΕΚΡΙΜΕΝΟ ΠΡΟΫΠΟΛΟΓΙΣΜΟ ΤΟΥ ΕΡΓΟΥ (1) | K8: ΠΙΣΤΟΠΟΙΗΘΕΙΣΕΣ ΔΑΠΑΝΕΣ (ΜΕΧΡΙ ΤΟ ΠΡΟΗΓΟΥΜΕΝΟ ΑΙΤΗΜΑ) | P8: ΑΙΤΟΥΜΕΝΕΣ ΔΑΠΑΝΕΣ | U8: ΕΠΙΛΕΞΙΜΗ ΔΑΠΑΝΗ - ΕΚΘΕΣΗ ΑΠΌ ΟΡΓΑΝΟ ΕΠΙΤΟΠΙΑΣ ΕΠΑΛΗΘΕΥΣΗΣ | Z8: ΣΧΟΛΙΑ
F9: ΠΟΣΟΤΗΤΑ | G9: ΤΙΜΗ ΜΟΝΑΔΟΣ | H9: ΠΟΣΟ ΧΩΡΙΣ ΦΠΑ | I9: ΠΟΣΟ ΦΠΑ | J9: ΣΥΝΟΛΙΚΟ ΠΟΣΟ | K9: ΠΟΣΟΤΗΤΑ | L9: ΤΙΜΗ ΜΟΝΑΔΟΣ | M9: ΠΟΣΟ ΧΩΡΙΣ ΦΠΑ | N9: ΠΟΣΟ ΦΠΑ (*) | O9: ΣΥΝΟΛΙΚΟ ΠΟΣΟ | P9: ΠΟΣΟΤΗΤΑ | Q9: ΤΙΜΗ ΜΟΝΑΔΟΣ | R9: ΠΟΣΟ ΧΩΡΙΣ ΦΠΑ | S9: ΠΟΣΟ ΦΠΑ (*) | T9: ΣΥΝΟΛΙΚΟ ΠΟΣΟ | U9: Ποσότητα | V9: Τιμή Μονάδας | W9: Ποσό χωρίς ΦΠΑ | X9: ΦΠΑ (*) | Y9: Συνολικό ποσό | Z9: ΜΗ ΕΠΙΛΕΞΙΜΗ ΔΑΠΑΝΗ | AA9: Αιτιολόγηση
A10: 1 | B10: Πάγια στοιχεία - Ακίνητα - Κτιριακές εγκαταστάσεις | U10: ΣΥΜΠΛΗΡΩΝΕΤΑΙ ΑΠΌ ΟΤΔ-Α/ΕΦΔ
A11: 2
A12: 3
A13: 4
A14: 5
A15: 6
A16: ΜΕΡΙΚΟ ΑΘΡΟΙΣΜΑ ΚΑΤΗΓΟΡΙΑΣ ΔΑΠΑΝΗΣ | H16: =SUM(H10:H15) -> 0 | I16: =SUM(I10:I15) -> 0 | J16: =SUM(J10:J15) -> 0 | M16: =SUM(M10:M15) -> 0 | N16: =SUM(N10:N15) -> 0 | O16: =SUM(O10:O15) -> 0 | R16: =SUM(R10:R15) -> 0 | S16: =SUM(S10:S15) -> 0 | T16: =SUM(T10:T15) -> 0 | W16: =SUM(W10:W15) -> 0 | X16: =SUM(X10:X15) -> 0 | Y16: =SUM(Y10:Y15) -> 0 | Z16: =SUM(Z10:Z15) -> 0
A17: 1 | B17: Πάγια στοιχεία - Εξοπλισμός- Ανταλλακτικά ως πάγιος εξοπλισμός | U17: ΣΥΜΠΛΗΡΩΝΕΤΑΙ ΑΠΌ ΟΤΔ-Α/ΕΦΔ
A18: 2
A19: 3
A20: 4
A21: 5
A22: 6
A23: 7
A24: 8
A25: 9
A26: 10
A27: 11
A28: 12
A29: ΜΕΡΙΚΟ ΑΘΡΟΙΣΜΑ ΚΑΤΗΓΟΡΙΑΣ ΔΑΠΑΝΗΣ | H29: =SUM(H17:H28) -> 0 | I29: =SUM(I17:I28) -> 0 | J29: =SUM(J17:J28) -> 0 | M29: =SUM(M17:M28) -> 0 | N29: =SUM(N17:N28) -> 0 | O29: =SUM(O17:O28) -> 0 | R29: =SUM(R17:R28) -> 0 | S29: =SUM(S17:S28) -> 0 | T29: =SUM(T17:T28) -> 0 | W29: =SUM(W17:W28) -> 0 | X29: =SUM(X17:X28) -> 0 | Y29: =SUM(Y17:Y28) -> 0 | Z29: =SUM(Z17:Z28) -> 0
A30: 1 | B30: 12 - Παροχή Υπηρεσιών | U30: ΣΥΜΠΛΗΡΩΝΕΤΑΙ ΑΠΌ ΟΤΔ-Α/ΕΦΔ
A31: ΜΕΡΙΚΟ ΑΘΡΟΙΣΜΑ ΚΑΤΗΓΟΡΙΑΣ ΔΑΠΑΝΗΣ | H31: =SUM(H30) -> 0 | I31: =SUM(I30) -> 0 | J31: =SUM(J30) -> 0 | M31: =SUM(M30:M30) -> 0 | N31: =SUM(N30:N30) -> 0 | O31: =SUM(O30:O30) -> 0 | R31: =SUM(R30:R30) -> 0 | S31: =SUM(S30:S30) -> 0 | T31: =SUM(T30:T30) -> 0 | W31: =SUM(W30:W30) -> 0 | X31: =SUM(X30:X30) -> 0 | Y31: =SUM(Y30:Y30) -> 0 | Z31: =SUM(Z30:Z30) -> 0
A33: ΓΕΝΙΚΟ ΑΘΡΟΙΣΜΑ | H33: =H31+H29+H16 -> 0 | I33: =I31+I29+I16 -> 0 | J33: =J31+J29+J16 -> 0 | M33: =M31+M29+M16 -> 0 | N33: =N31+N29+N16 -> 0 | O33: =O31+O29+O16 -> 0 | R33: =R31+R29+R16 -> 0 | S33: =S31+S29+S16 -> 0 | T33: =T31+T29+T16 -> 0 | W33: =W31+W29+W16 -> 0 | X33: =X31+X29+X16 -> 0 | Y33: =Y31+Y29+Y16 -> 0 | Z33: =Z31+Z29+Z16 -> 0
E34: * ΣΥΜΠΛΗΡΩΝΕΤΑΙ Ο Φ.Π.Α. ΜΟΝΟ ΣΕ ΠΕΡΙΠΤΩΣΗ ΠΟΥ ΕΊΝΑΙ ΕΠΙΛΕΞΙΜΗ ΔΑΠΑΝΗ ΑΛΛΙΩΣ ΤΙΘΕΤΑΙ 0
A35: ΗΜΕΡΟΜΗΝΙΑ: | R35: ΓΙΑ ΤΟ ΟΡΓΑΝΟ ΕΠΙΤΟΠΙΑΣ ΕΠΑΛΗΘΕΥΣΗΣ
R36: Α. ΣΥΝΤΟΝΙΣΤΗΣ Ο.Ε.Ε. | W36: Β. ΜΕΛΟΣ Ο.Ε.Ε.
A40: ΚΑΤΗΓΟΡΙΕΣ ΔΑΠΑΝΗΣ ΠΣΚΕ
A41: 2 - Πάγια στοιχεία - Ακίνητα - Κτιριακές εγκαταστάσεις
A42: 4 - Πάγια στοιχεία - Εξοπλισμός - Αγορά εξοπλισμού
A43: 5 - Πάγια στοιχεία - Εξοπλισμός - Ανταλλακτικά ως πάγιος εξοπλισμός
A44: 7 - Πάγια στοιχεία - Μεταφορικά μέσα
A45: 8 - Πάγια στοιχεία - Αγορά άυλων παγίων στοιχείων
A46: 12 - Παροχή Υπηρεσιών

Sheet ΠΙΝΑΚΑΣ 2. ΟΕΕ
A1: ΠΙΝΑΚΑΣ 2. : ΑΝΑΛΥΤΙΚΟΣ ΚΑΤΑΛΟΓΟΣ ΔΑΠΑΝΩΝ & ΤΩΝ ΑΝΤΙΣΤΟΙΧΩΝ ΛΟΓΙΣΤΙΚΩΝ ΑΠΟΔΕΙΚΤΙΚΩΝ ΕΓΓΡΑΦΩΝ - ΠΙΝΑΚΑΣ ΠΑΡΑΣΤΑΤΙΚΩΝ ΕΚΤΕΛΕΣΘΕΙΣΩΝ ΕΡΓΑΣΙΩΝ
A2: ΤΙΤΛΟΣ ΠΡΑΞΗΣ:
A3: ΠΕΡΙΟΧΗ:
A4: ΑΡΙΘΜ. ΑΠΟΦ. ΕΝΤΑΞΗΣ:
A5: ΑΡΙΘΜ. ΑΠΟΦ. ΧΡΗΜΑΤΟΔΟΤΗΣΗΣ:
A6: ΔΙΚΑΙΟΥΧΟΣ:
A7: ΚΩΔΙΚΟΣ ΟΠΣ (MIS):
A8: ='ΠΙΝΑΚΑΣ 1. ΟΕΕ'!A8 -> A/A | B8: ='ΠΙΝΑΚΑΣ 1. ΟΕΕ'!B8 -> ΚΑΤΗΓΟΡΙΑ ΔΑΠΑΝΗΣ | C8: ='ΠΙΝΑΚΑΣ 1. ΟΕΕ'!C8 -> κωδ. (κυρίως για κτηριακά) | D8: ='ΠΙΝΑΚΑΣ 1. ΟΕΕ'!D8 -> ΕΙΔΟΣ ΕΡΓΑΣΙΑΣ | E8: ΣΤΟΙΧΕΙΑ ΠΑΡΑΣΤΑΤΙΚΟΥ | M8: ΣΤΟΙΧΕΙΑ ΕΞΟΦΛΗΣΗΣ | Q8: ΑΙΤΟΥΜΕΝΕΣ ΔΑΠΑΝΕΣ | T8: Ελεγμένη Δαπάνη ΟΕΕ - ΕΠΙΛΕΞΙΜΕΣ ΔΑΠΑΝΕΣ
E9: ΕΙΔΟΣ ΠΑΡΑΣΤΑΤΙΚΟΥ (1) | F9: ΑΡΙΘΜΟΣ ΠΑΡΑΣΤΑΤΙΚΟΥ | G9: ΗΜ/ΝΙΑ ΕΚΔΟΣΗΣ | H9: ΕΚΔΟΤΗΣ | I9: ΚΑΘΑΡΗ ΑΞΙΑ | J9: ΦΠΑ% | K9: ΠΟΣΟ ΦΠΑ | L9: ΣΥΝΟΛΟ | M9: ΤΡΟΠΟΣ ΠΛΗΡΩΜΗΣ (2) | N9: ΗΜ/ΝΙΑ ΕΞΟΦΛΗΣΗΣ (3) | O9: ΑΡΙΘΜΟΣ ΠΑΡΑΣΤΑΤΙΚΟΥ ΕΞΟΦΛΗΣΗΣ | P9: ΤΡΑΠΕΖΑ/ ΕΚΔΟΤΗΣ ΠΑΡΑΣΤΑΤΙΚΟΥ ΕΞΟΦΛΗΣΗΣ | Q9: ='ΠΙΝΑΚΑΣ 1. ΟΕΕ'!R9 -> ΠΟΣΟ ΧΩΡΙΣ ΦΠΑ | R9: ='ΠΙΝΑΚΑΣ 1. ΟΕΕ'!S9 -> ΠΟΣΟ ΦΠΑ (*) | S9: ='ΠΙΝΑΚΑΣ 1. ΟΕΕ'!T9 -> ΣΥΝΟΛΙΚΟ ΠΟΣΟ | T9: Επιλέξιμο ποσό χωρίς ΦΠΑ | U9: Επιλέξιμο ΦΠΑ (*) | V9: Επιλέξιμο Συνολικό ποσό | W9: Μη επιλέξιμο ποσό | X9: ΠΑΡΑΤΗΡΗΣΕΙΣ
A10: ='ΠΙΝΑΚΑΣ 1. ΟΕΕ'!A10 -> 1 | B10: ='ΠΙΝΑΚΑΣ 1. ΟΕΕ'!B10 -> Πάγια στοιχεία - Ακίνητα - Κτιριακές εγκαταστάσεις | T10: ΣΥΜΠΛΗΡΩΝΕΤΑΙ ΑΠΌ ΟΤΔ-Α/ΕΦΔ
A11: ='ΠΙΝΑΚΑΣ 1. ΟΕΕ'!A11 -> 2
A12: ='ΠΙΝΑΚΑΣ 1. ΟΕΕ'!A12 -> 3
A13: ='ΠΙΝΑΚΑΣ 1. ΟΕΕ'!A13 -> 4
A14: ='ΠΙΝΑΚΑΣ 1. ΟΕΕ'!A14 -> 5
A15: ='ΠΙΝΑΚΑΣ 1. ΟΕΕ'!A15 -> 6
A16: ='ΠΙΝΑΚΑΣ 1. ΟΕΕ'!A16 -> ΜΕΡΙΚΟ ΑΘΡΟΙΣΜΑ ΚΑΤΗΓΟΡΙΑΣ ΔΑΠΑΝΗΣ | Q16: =SUM(Q10:Q15) -> 0 | R16: =SUM(R10:R15) -> 0 | S16: =SUM(S10:S15) -> 0 | T16: =SUM(T10:T15) -> 0 | U16: =SUM(U10:U15) -> 0 | V16: =SUM(V10:V15) -> 0 | W16: =SUM(W10:W15) -> 0
A17: ='ΠΙΝΑΚΑΣ 1. ΟΕΕ'!A17 -> 1 | B17: ='ΠΙΝΑΚΑΣ 1. ΟΕΕ'!B17 -> Πάγια στοιχεία - Εξοπλισμός- Ανταλλακτικά ως πάγιος εξοπλισμός | T17: ΣΥΜΠΛΗΡΩΝΕΤΑΙ ΑΠΌ ΟΤΔ-Α/ΕΦΔ
A18: ='ΠΙΝΑΚΑΣ 1. ΟΕΕ'!A18 -> 2
A19: ='ΠΙΝΑΚΑΣ 1. ΟΕΕ'!A19 -> 3
A20: ='ΠΙΝΑΚΑΣ 1. ΟΕΕ'!A20 -> 4
A21: ='ΠΙΝΑΚΑΣ 1. ΟΕΕ'!A21 -> 5
A22: ='ΠΙΝΑΚΑΣ 1. ΟΕΕ'!A22 -> 6
A23: ='ΠΙΝΑΚΑΣ 1. ΟΕΕ'!A23 -> 7
A24: ='ΠΙΝΑΚΑΣ 1. ΟΕΕ'!A24 -> 8
A25: ='ΠΙΝΑΚΑΣ 1. ΟΕΕ'!A25 -> 9
A26: ='ΠΙΝΑΚΑΣ 1. ΟΕΕ'!A26 -> 10
A27: ='ΠΙΝΑΚΑΣ 1. ΟΕΕ'!A27 -> 11
A28: ='ΠΙΝΑΚΑΣ 1. ΟΕΕ'!A28 -> 12
A29: ='ΠΙΝΑΚΑΣ 1. ΟΕΕ'!A29 -> ΜΕΡΙΚΟ ΑΘΡΟΙΣΜΑ ΚΑΤΗΓΟΡΙΑΣ ΔΑΠΑΝΗΣ | Q29: =SUM(Q17:Q28) -> 0 | R29: =SUM(R17:R28) -> 0 | S29: =SUM(S17:S28) -> 0 | T29: =SUM(T17:T28) -> 0 | U29: =SUM(U17:U28) -> 0 | V29: =SUM(V17:V28) -> 0 | W29: =SUM(W17:W28) -> 0
A30: ='ΠΙΝΑΚΑΣ 1. ΟΕΕ'!A30 -> 1 | B30: ='ΠΙΝΑΚΑΣ 1. ΟΕΕ'!B30 -> 12 - Παροχή Υπηρεσιών | T30: ΣΥΜΠΛΗΡΩΝΕΤΑΙ ΑΠΌ ΟΤΔ-Α/ΕΦΔ
A31: ='ΠΙΝΑΚΑΣ 1. ΟΕΕ'!A31 -> ΜΕΡΙΚΟ ΑΘΡΟΙΣΜΑ ΚΑΤΗΓΟΡΙΑΣ ΔΑΠΑΝΗΣ | Q31: =SUM(Q30) -> 0 | R31: =SUM(R30) -> 0 | S31: =SUM(S30) -> 0 | T31: =SUM(T30) -> 0 | U31: =SUM(U30) -> 0 | V31: =SUM(V30) -> 0 | W31: =SUM(W30) -> 0
A32: ='ΠΙΝΑΚΑΣ 1. ΟΕΕ'!A33 -> ΓΕΝΙΚΟ ΑΘΡΟΙΣΜΑ | Q32: =Q31+Q29+Q16 -> 0 | R32: =R31+R29+R16 -> 0 | S32: =S31+S29+S16 -> 0 | T32: =T31+T29+T16 -> 0 | U32: =U31+U29+U16 -> 0 | V32: =V31+V29+V16 -> 0 | W32: =W31+W29+W16 -> 0
A33: 1 | B33: ΛΟΓΙΣΤΙΚΑ ΕΓΓΡΑΦΑ | E33: (1) Πρέπει να αναφερθούν όλα τα δικαιολογητικά τα σχετικά με την πραγματοποίηση του χρηματοδοτικού σχεδίου.
A34: 2 | B34: Τρόπος πληρωμής | E34: (2) Τρόπος πληρωμής: 1. Τράπεζα, 2. Επιταγή, 3. Μετρητά.
A35: 3 | B35: Ημ/νία πληρωμής-εξόφλησης | E35: (3) Η ημερομηνία που πρέπει να αναφερθεί είναι εκείνη της πραγματικής πληρωμής και όχι η ημερομηνία λήξης της οφειλής π.χ. σε περίπτωση πληρωμής με συναλλαγματική
A36: * ΣΥΜΠΛΗΡΩΝΕΤΑΙ Ο Φ.Π.Α. ΜΟΝΟ ΣΕ ΠΕΡΙΠΤΩΣΗ ΠΟΥ ΕΊΝΑΙ ΕΠΙΛΕΞΙΜΗ ΔΑΠΑΝΗ ΑΛΛΙΩΣ ΤΙΘΕΤΑΙ 0
A37: ΗΜΕΡΟΜΗΝΙΑ: | O37: ΓΙΑ ΤΟ ΟΡΓΑΝΟ ΕΠΙΤΟΠΙΑΣ ΕΠΑΛΗΘΕΥΣΗΣ
O38: Α. ΣΥΝΤΟΝΙΣΤΗΣ Ο.Ε.Ε. | T38: Β. ΜΕΛΟΣ Ο.Ε.Ε.

Sheet ΠΙΝΑΚΑΣ ΤΡΟΠΟΠΟΙΗΣΗΣ
A1: ΑΙΤΗΣΗ ΤΡΟΠΟΠΟΙΗΣΗΣ ΠΡΟΫΠΟΛΟΓΙΣΜΟΥ (ΕΝΤΌΣ ή ΕΚΤΟΣ ΚΑΤΗΓΟΡΙΩΝ ΔΑΠΑΝΩΝ)
A2: ΤΑΥΤΟΤΗΤΑ | B2: ΕΠΙΧΕΙΡΗΣΙΑΚΟ ΠΡΟΓΡΑΜΜΑ:
B3: ΠΡΟΤΕΡΑΙΟΤΗΤΑ:
B4: ΜΕΤΡΟ:
B5: ΔΙΚΑΙΟΥΧΟΣ:
B6: Τίτλος ΠΡΑΞΗΣ :
B7: ΚΩΔΙΚΟΣ ΠΡΑΞΗΣ ΠΣΚΕ:
B8: Κωδικός Ο.Π.Σ.Α.Α:
A9: Προϋπολογισμός της εγκεκριμένης πράξης
A10: α/α | B10: Κατηγορία δαπάνης (ΚΩΔ) | C10: κωδ. (κυρίως για κτηριακά) | D10: Είδος εργασίας | E10: Μον. μετρ. | F10: ΑΠΌ: Στοιχεία σύμφωνα με την εγκριμένη μελέτη του έργου (Αναλυτικός εγκεκριμένος προϋπολογισμός από Κ.Α.Α.Ε.Κ.Τ. ΣΑΜΟΥ Α.Ε.) ή σύμφωνα με προηγουμένη τροποποίηση και πρόσθετη πράξη | K10: ΣΕ : Αιτούμενος νέος Προυπολογισμός
K11: Δαπάνες σύμφωνα με το αίτημα τροποποίησης
F12: Ποσό τητα | G12: Τιμή Μονάδας | H12: Ποσό χωρίς ΦΠΑ | I12: ΦΠΑ | J12: Συνολικό ποσό | K12: Ποσότητα | L12: Τιμή Μονάδας | M12: Ποσό χωρίς ΦΠΑ | N12: ΦΠΑ | O12: Συνολικό ποσό | P12: Παρατηρήσεις
A13: 1 | B13: ='ΠΙΝΑΚΑΣ 2. ΟΕΕ'!B10 -> Πάγια στοιχεία - Ακίνητα - Κτιριακές εγκαταστάσεις
A14: 2
A15: 3
A16: 4
A17: 5
A18: 6
A19: ΣΥΝΟΛΟ ΚΑΤΗΓΟΡΙΑΣ ΔΑΠΑΝΗΣ | H19: =SUM(H13:H18) -> 0 | I19: =SUM(I13:I18) -> 0 | J19: =SUM(J13:J18) -> 0 | M19: =SUM(M13:M18) -> 0 | N19: =SUM(N13:N18) -> 0 | O19: =SUM(O13:O18) -> 0
A20: 7 | B20: ='ΠΙΝΑΚΑΣ 2. ΟΕΕ'!B17 -> Πάγια στοιχεία - Εξοπλισμός- Ανταλλακτικά ως πάγιος εξοπλισμός
A21: 8
A22: 9
A23: 10
A24: 11
A25: 12
A26: 13
A27: 14
A28: 15
A29: 16
A30: 17
A31: 18
A32: ΣΥΝΟΛΟ ΚΑΤΗΓΟΡΙΑΣ ΔΑΠΑΝΗΣ | H32: =SUM(H20:H31) -> 0 | I32: =SUM(I20:I31) -> 0 | J32: =SUM(J20:J31) -> 0 | M32: =SUM(M20:M31) -> 0 | N32: =SUM(N20:N31) -> 0 | O32: =SUM(O20:O31) -> 0
A33: 19 | B33: ='ΠΙΝΑΚΑΣ 2. ΟΕΕ'!B30 -> 12 - Παροχή Υπηρεσιών
A34: ΣΥΝΟΛΟ ΚΑΤΗΓΟΡΙΑΣ ΔΑΠΑΝΗΣ | H34: =SUM(H33:H33) -> 0 | I34: =SUM(I33:I33) -> 0 | J34: =SUM(J33:J33) -> 0 | M34: =SUM(M33:M33) -> 0 | N34: =SUM(N33:N33) -> 0 | O34: =SUM(O33) -> 0
A35: ΓΕΝΙΚΟ ΣΥΝΟΛΟ | H35: =H34+H32+H19 -> 0 | I35: =I34+I32+I19 -> 0 | J35: =J34+J32+J19 -> 0 | M35: =M34+M32+M19 -> 0 | N35: =N34+N32+N19 -> 0 | O35: =O34+O32+O19 -> 0
