Workbook

Sheet ΣΥΓΚΕΝΤΡΩΤΙΚΟΣ
A1: ΣΤΡΑΤΗΓΙΚΟ ΣΧΕΔΙΟ ΚΟΙΝΗΣ ΑΓΡΟΤΙΚΗΣ ΠΟΛΙΤΙΚΗΣ (ΣΣ ΚΑΠ) 2023- 2027
A2: ΠΑΡΕΜΒΑΣΗ Π3-77-4.1 «ΣΤΗΡΙΞΗ ΓΙΑ ΤΟΠΙΚΗ ΑΝΑΠΤΥΞΗ ΜΕΣΩ ΤΟΥ LEADER (ΤΑΠΤΟΚ - ΤΟΠΙΚΗ ΑΝΑΠΤΥΞΗ ΜΕ ΠΡΩΤΟΒΟΥΛΙΑ ΤΟΠΙΚΩΝ ΚΟΙΝΟΤΗΤΩΝ)» για ΠΡΑΞΕΙΣ ΔΗΜΟΣΙΟΥ ΧΑΡΑΚΤΗΡΑ
A3: ΚΕΝΤΡΟ ΑΝΑΠΤΥΞΗΣ ΑΠΑΣΧΟΛΗΣΗΣ ΕΠΑΓΓΕΛΜΑΤΙΚΗΣ ΚΑΤΑΡΤΙΣΗΣ & ΤΕΧΝΟΛΟΓΙΑΣ ΝΟΜΟΥ ΣΑΜΟΥ ΑΕ (Κ.Α.Α.Ε.Κ.Τ. ΣΑΜΟΥ ΑΕ)
A4: ΠΡΟΫΠΟΛΟΓΙΣΜΟΣ (για πράξεις που εκτελούνται με διαδικασίες δημόσιας σύμβασης συμπληρώνεται μόνο για τις κατηγορίες δαπάνης L41.06 & L41.10 εάν δεν υπάρχει τεχνκή επάρκεια)
A5: ΚΩΔ. ΟΠΣΚΑΠ:
A6: ΚΩΔΙΚΟΣ-ΤΙΤΛΟΣ ΥΠΟ-ΠΑΡΕΜΒΑΣΗΣ:
A7: ΔΙΚΑΙΟΥΧΟΣ ΠΡΑΞΗΣ:
A8: ΤΙΤΛΟΣ ΠΡΑΞΗΣ:
A9: ΠΕΡΙΟΧΗ ΥΛΟΠΟΙΗΣΗΣ:
A11: Δ.5.1 ΠΙΝΑΚΑΣ ΑΝΑΛΥΣΗΣ ΚΟΣΤΟΥΣ ΤΗΣ ΠΡΟΤΑΣΗΣ – ΧΡΟΝΟΔΙΑΓΡΑΜΜΑ (Ο προυπολογισμός συμπληρώνεται αυτόματα από τους αναλυτικούς πίνακες που ακολουθούν. Απαιτείται η συμπλήρωση μόνο των πεδίων με κίτρινη σκίαση)
A12: Α/Α | B12: ΚΩΔ. ΟΠΣΚΑΠ | C12: ΚΑΤΗΓΟΡΙΑ ΔΑΠΑΝΗΣ (συμπληρώνεται κατά περίπτωση) | D12: ΚΑΘΑΡΟ ΠΟΣΟ | E12: ΦΠΑ | F12: ΣΥΝΟΛΟ | G12: Αιτούμενη Επιλέξιμη Δημόσια Δαπάνη (€) | H12: Ιδιωτική Συμμετοχή υπο-παρέμβασης Π3-77-4.1-5.1 | I12: Κάληψη διαφοράς εγκεκριμένου και επιλέξιμου με ίδιους πορους | J12: ΠΟΣΟΣΤΟ (%) (*)
A14: 1 | B14: L41.01 | C14: ΚΤΙΡΙΑΚΕΣ ΕΓΚΑΤΑΣΤΑΣΕΙΣ & ΕΡΓΑ ΥΠΟΔΟΜΗΣ & ΠΕΡΙΒΑΛΛΟΝΤΟΣ ΧΩΡΟΥ | D14: ='L41.01 ΚΤΗΡΙΑΚ ΥΠΟΔ ΠΕΡΙΒΑΛΛ'!G26 -> 80050 | E14: ='L41.01 ΚΤΗΡΙΑΚ ΥΠΟΔ ΠΕΡΙΒΑΛΛ'!H26 -> 13608.5 | F14: ='L41.01 ΚΤΗΡΙΑΚ ΥΠΟΔ ΠΕΡΙΒΑΛΛ'!I26 -> 93658.5 | G14: 20000 | H14: 1000 | I14: 140 | J14: =ROUND(F14/$F$22,4) -> 0.9124
A15: 2 | B15: L41.02 | C15: ΜΗΧΑΝΟΛΟΓΙΚΟΣ ΕΞΟΠΛΙΣΜΟΣ | D15: ='L41.02 ΜΗΧΑΝΟΛ ΕΞΟΠΛ'!G13 -> 7050 | E15: ='L41.02 ΜΗΧΑΝΟΛ ΕΞΟΠΛ'!H13 -> 1198.5 | F15: ='L41.02 ΜΗΧΑΝΟΛ ΕΞΟΠΛ'!I13 -> 8248.5 | G15: 20000 | H15: 1000 | I15: 140 | J15: =ROUND(F15/$F$22,4) -> 0.0804
A16: 3 | B16: L41.03 | C16: ΛΟΙΠΟΣ ΕΞΟΠΛΙΣΜΟΣ | D16: ='L41... ΛΟΙΠΑ'!F10 -> 20 | E16: ='L41... ΛΟΙΠΑ'!G10 -> 3.4 | F16: ='L41... ΛΟΙΠΑ'!H10 -> 23.4 | G16: 20000 | H16: 1000 | I16: 140 | J16: =ROUND(F16/$F$22,4) -> 0.0002
A17: 4 | B17: L41.04 | C17: ΕΞΟΠΛΙΣΜΟΣ ΑΠΕ | D17: ='L41... ΛΟΙΠΑ'!F22 -> 0 | E17: ='L41... ΛΟΙΠΑ'!G22 -> 0 | F17: ='L41... ΛΟΙΠΑ'!H22 -> 0 | G17: 20000 | H17: 1000 | I17: 140 | J17: =ROUND(F17/$F$22,4) -> 0
A18: 5 | B18: L41.06 | C18: ΔΑΠΑΝΗ ΥΠΟΒΟΛΗΣ ΦΑΚΕΛΟΥ ΚΑΙ ΤΕΧΝΙΚΗ ΣΤΗΡΙΞΗ ΓΙΑ ΤΗΝ ΥΛΟΠΟΙΗΣΗ ΤΟΥ ΕΡΓΟΥ (max 4.000€) | D18: ='L41... ΛΟΙΠΑ'!F35 -> 100 | E18: ='L41... ΛΟΙΠΑ'!G35 -> 17 | F18: ='L41... ΛΟΙΠΑ'!H35 -> 117 | G18: 20000 | H18: 1000 | I18: 140 | J18: =ROUND(F18/$F$22,4) -> 0.0011
A19: 6 | B19: L41.07 | C19: ΔΑΠΑΝΕΣ ΕΝΗΜΕΡΩΣΗΣ ΠΡΟΒΟΛΗΣ (**) | D19: ='L41... ΛΟΙΠΑ'!F48 -> 120 | E19: ='L41... ΛΟΙΠΑ'!G48 -> 20.4 | F19: ='L41... ΛΟΙΠΑ'!H48 -> 140.4 | G19: 20000 | H19: 1000 | I19: 140 | J19: =ROUND(F19/$F$22,4) -> 0.0014
A20: 7 | B20: L41.08 | C20: ΟΡΓΑΝΩΣΗ ΠΟΛΙΤΙΣΤΙΚΩΝ ΔΡΩΜΕΝΩΝ | D20: ='L41... ΛΟΙΠΑ'!F61 -> 140 | E20: ='L41... ΛΟΙΠΑ'!G61 -> 23.8 | F20: ='L41... ΛΟΙΠΑ'!H61 -> 163.8 | G20: 20000 | H20: 1000 | I20: 140 | J20: =ROUND(F20/$F$22,4) -> 0.0016
A21: 8 | B21: L41.10 | C21: ΜΕΛΕΤΕΣ ΓΙΑ ΕΚΔΟΣΗ ΟΙΚ. ΑΔΕΙΑΣ ΚΑΙ ΛΟΙΠΕΣ ΜΕΛΕΤΕΣ ΠΟΥ ΣΧΕΤΙΖΟΝΤΑΙ ΜΕ ΤΗΝ ΕΚΤΕΛΕΣΗ ΤΟΥ ΕΡΓΟΥ (**) | D21: ='L41... ΛΟΙΠΑ'!F74 -> 260 | E21: ='L41... ΛΟΙΠΑ'!G74 -> 44.2 | F21: ='L41... ΛΟΙΠΑ'!H74 -> 304.2 | G21: 20000 | H21: 1000 | I21: 140 | J21: =ROUND(F21/$F$22,4) -> 0.003
C22: ΣΥΝΟΛΙΚΟ ΚΟΣΤΟΣ ΠΡΟΤΑΣΗΣ | D22: =SUM(D14:D21) -> 87740 | E22: =SUM(E14:E21) -> 14915.8 | F22: =SUM(F14:F21) -> 102655.8 | G22: =SUM(G14:G21) -> 160000 | H22: =SUM(H14:H21) -> 8000 | I22: =SUM(I14:I21) -> 1120 | J22: =SUM(J14:J21) -> 1.0001
A23: (*) Ποσοστό της κατηγορίας δαπάνης σε σχέση με το συνολική ΔΔ | G23: =G22+H22+I22 -> 169120
A24: (**) Η μελέτη για την έκδοση της οικοδομικής άδειας και οι λοιπές μελέτες για την εκτέλεση του έργου, καθώς και οι δαπάνες προβολής και προώθησης ανέρχονται σε ποσοστό έως το 12% του προτεινόμενου προϋπολογισμού της πράξης. Για ειδικές κατηγορίες πράξεων και κατόπιν σχετικής τεκμηρίωσης το ανωτέρω ποσοστό μπορεί να διαφοροποιηθεί, μετά και από τη σύμφωνη γνώμη της ΕΥΕ ΠΑΑ.
A25: Προσοχή : Για την τεκμηρίωση του εύλογου κόστους της κάθε δαπάνης (όπου απαιτείται) ο υποψήφιος δικαιούχος προσκομίζει αποδεικτικά στοιχεία, σύμφωνα με τα οριζόμενα στον Οδηγό Υποβολής - Διοικητικού Ελέγχου Αιτήσεων Στήριξης στο υπ.αριθμ.9 Κριτήριο επιλεξιμότητας
A26: Παρατηρήσεις / Σημειώσεις (εάν υπάρχουν):

Sheet ΤΙΜΕΣ ΑΠΛΟΠΟΙΗΜ
A1: ΤΙΜΕΣ ΥΠΟΛΟΓΙΣΜΟΥ ΑΠΛΟΠΟΙΗΜΕΝΟΥ ΚΟΣΤΟΥΣ (βάσει της Κατηγορίας "4. Υπηρεσίες - ταβέρνες, παιδικοί σταθμοί κλπ" του "Οδηγού απλοποιημένου κόστους κτιριακών κατασκευών)
A2: Στο παρόν φύλλο συμπληρώνονται με προσοχή ΥΠΟΧΡΕΩΤΙΚΑ μόνο τα κελιά με κίκτρινη σκίαση, για τον υπολογισμό του απλοποιημένου κόστους κτηριακών εγκαταστάσεων στο επόμενο φύλλο
C3: Τιμές Περιοχής Ι (Οικισμός ………..)
B4: Tιμή βάσης Κόστος €/τ.μ. | C4: Νέες κτιριακές υποδομές με σκελετό ΟΠΛΙΣΜΕΝΟΥ σκυροδέματος | D4: Νέες κτιριακές υποδομές με ΜΕΤΑΛΛΙΚΟ σκελετό
B5: Tιμή βάσης Συμβατικού τύπου
B6: Κύριοι Χώροι (εντός Σ.Δ.) | C6: =ROUND(1500*($C$19/$C$18),2) -> 1578.27 | D6: =ROUND(1395*($C$19/$C$18),2) -> 1467.79
B7: Υπόγεια – βοηθητικές χρήσεις | C7: =ROUND(750*($C$19/$C$18),2) -> 789.14 | D7: =ROUND(750*($C$19/$C$18),2) -> 789.14
B8: Ημιυπαίθριοι χώροι | C8: =ROUND(450*($C$19/$C$18),2) -> 473.48 | D8: =ROUND(450*($C$19/$C$18),2) -> 473.48
B9: Παραδοσιακά (=15% πλέον συμβατικού τύπου)
B10: Κύριοι Χώροι (εντός Σ.Δ.) | C10: =ROUND(1725*($C$19/$C$18),2) -> 1815.01 | D10: =ROUND(1604*($C$19/$C$18),2) -> 1687.7
B11: Υπόγεια – βοηθητικές χρήσεις | C11: =ROUND(863*($C$19/$C$18),2) -> 908.03 | D11: =ROUND(863*($C$19/$C$18),2) -> 908.03
B12: Ημιυπαίθριοι χώροι | C12: =ROUND(518*($C$19/$C$18),2) -> 545.03 | D12: =ROUND(518*($C$19/$C$18),2) -> 545.03
B13: Διατηρητέα (=30% πλέον συμβατικού τύπου)
B14: Κύριοι Χώροι (εντός Σ.Δ.) | C14: =ROUND(1950*($C$19/$C$18),2) -> 2051.75 | D14: -
B15: Υπόγεια – βοηθητικές χρήσεις | C15: =ROUND(975*($C$19/$C$18),2) -> 1025.88 | D15: -
B16: Ημιυπαίθριοι χώροι | C16: =ROUND(585*($C$19/$C$18),2) -> 615.53 | D16: -
B17: Σημειώνεται ότι οι παραπάνω τιμές έχουν υπολογιστεί για :
B18: Τ.Κ. 2024 : | C18: 1.399
B19: Τ.Κ. 2026 : | C19: 1.472
B21: ΠΡΟΣΑΥΞΗΣΕΙΣ ΤΙΜΗΣ ΜΟΝΑΔΑΣ | C21: ΝΑΙ / ΌΧΙ | D21: Προσαύξηση
B22: Περιοχή ΙΙ (χωροθέτηση της νήσου Σάμου) = + 6% | C22: ΌΧΙ | D22: =IF(C22="ΝΑΙ",0.06,0) -> 0
B23: Περιοχή ΙΙΙ (χωροθέτηση σε νήσο Ικαρίας και Φούρνοι Κορσεών) = + 12% | C23: ΌΧΙ | D23: =IF(C23="ΝΑΙ",0.12,0) -> 0
B24: Ειδικές απαιτήσεις θεμελίωσης = + 6% | C24: ΌΧΙ | D24: =IF(C24="ΝΑΙ",0.06,0) -> 0
B25: Τεχνολογίες βιοκλιματικού κτιρίου = + 6% | C25: ΌΧΙ | D25: =IF(C25="ΝΑΙ",0.06,0) -> 0
B26: Σύνολο προσαυξήσεων | D26: =SUM(D22:D25) -> 0
B28: Είδος κατασκευής κτηρίου (Σκελετός οπλισμένου σκυροδέματος / Μεταλλικός σκελετός ) | C28: Σκελετός οπλισμένου σκυροδέματος
D29: Προσοχή σημειώνεται ότι : - Για νέες κατασκευές επιλέγετε υποχρεωτικά:"Συμβατικού τύπου" -σε περίπτωση Μεταλλικού σκελετού , δεν επιτρέπεται η επιλογή "Διατηρητέα 30% πλέον του συμβατικού"
B30: Έίδος κτηρίου : - Συμβατικού τύπου - Παραδοσιακά (= 15% πλέον του συμβατικού) - Διατηρητέα (= 30% πλέον του συμβατικού) | C30: Συμβατικού τύπου
A33: ΣΥΜΠΛΗΡΩΝΕΤΑΙ ΜΟΝΟ ΓΙΑ ΕΠΙΣΚΕΥΕΣ / ΑΝΑΚΑΙΝΙΣΕΙΣ ΥΦΙΣΤΑΜΕΝΩΝ ΚΑΤΑΣΚΕΥΩΝ
A34: Επισκευές - ανακαινίσεις υφιστάμενων κατασκευών με σκελετό ΟΠΛΙΣΜΕΝΟΥ ΣΚΥΡΟΔΕΜΑΤΟΣ
A35: α/α | B35: Εργασία | C35: Ποσοστό συμμετοχής (%) στο κόστος | D35: Ποσοστό εκτέλεσης εργασιών (%) στο σύνολο (βάσει προμετρήσεων ή άλλης μεθόδου)* από 0% έως 100% | E35: Ποσοστό συμμετοχής (%) εργασίας στην τιμή βάσης
A36: 1. | B36: Εκσκαφές – χωματουργικά | C36: 0.0266 | E36: =ROUND(C36*D36,6) -> 0
A37: 2.1 | B37: Σκελετός οπλισμένου σκυροδέματος | C37: 0.28 | E37: =ROUND(C37*D37,6) -> 0
A38: 3. | B38: Τοιχοποιίες | C38: 0.0667 | E38: =ROUND(C38*D38,6) -> 0
A39: 4. | B39: Επιχρίσματα | C39: 0.1 | E39: =ROUND(C39*D39,6) -> 0
A40: 5. | B40: Δάπεδα | C40: 0.0933 | E40: =ROUND(C40*D40,6) -> 0
A41: 6. | B41: Μαρμαρικές εργασίες | C41: 0.0167 | E41: =ROUND(C41*D41,6) -> 0
A42: 7. | B42: Επενδύσεις Τοίχων | C42: 0.0266 | E42: =ROUND(C42*D42,6) -> 0
A43: 8. | B43: Χρωματισμοί | C43: 0.067 | E43: =ROUND(C43*D43,6) -> 0
A44: 9. | B44: Είδη Υγιεινής | C44: 0.0333 | E44: =ROUND(C44*D44,6) -> 0
A45: 10. | B45: Ξυλουργικές Εργασίες (πόρτες - ντουλάπες κ.λπ.) | C45: 0.06 | E45: =ROUND(C45*D45,6) -> 0
A46: 11. | B46: Εξωτερικά Κουφώματα | C46: 0.05 | E46: =ROUND(C46*D46,6) -> 0
A47: 12. | B47: Υαλοπίνακες | C47: 0.01 | E47: =ROUND(C47*D47,6) -> 0
... A52: 17. | B52: Λοιπές εργασίες (τζάκι, πόμολα κ.λπ. ) | C52: 0.0166 | E52: =ROUND(C52*D52,6) -> 0
B53: ΣΥΝΟΛΟ | C53: =SUM(C36:C52) -> 1 | E53: =SUM(E36:E52) -> 0
A55: Επισκευές - ανακαινίσεις υφιστάμενων κατασκευών με ΜΕΤΑΛΙΚΟ ΣΚΕΛΕΤΟ
A56: α/α | B56: Εργασία | C56: Ποσοστό συμμετοχής (%) στο κόστος | D56: Ποσοστό εκτέλεσης εργασιών (%) στο σύνολο (βάσει προμετρήσεων ή άλλης μεθόδου)* από 0% έως 100% | E56: Ποσοστό συμμετοχής (%) εργασίας στην τιμή βάσης
A57: 1. | B57: Εκσκαφές – χωματουργικά | C57: 0.0287 | E57: =ROUND(C57*D57,6) -> 0
A58: 2.2 | B58: Σκελετός Μεταλλικός | C58: 0.2258 | E58: =ROUND(C58*D58,6) -> 0
A59: 3. | B59: Τοιχοποιίες | C59: 0.0717 | E59: =ROUND(C59*D59,6) -> 0
A60: 4. | B60: Επιχρίσματα | C60: 0.1075 | E60: =ROUND(C60*D60,6) -> 0
A61: 5. | B61: Δάπεδα | C61: 0.1004 | E61: =ROUND(C61*D61,6) -> 0
A62: 6. | B62: Μαρμαρικές εργασίες | C62: 0.0179 | E62: =ROUND(C62*D62,6) -> 0
A63: 7. | B63: Επενδύσεις Τοίχων | C63: 0.0287 | E63: =ROUND(C63*D63,6) -> 0
A64: 8. | B64: Χρωματισμοί | C64: 0.0717 | E64: =ROUND(C64*D64,6) -> 0
A65: 9. | B65: Είδη Υγιεινής | C65: 0.0358 | E65: =ROUND(C65*D65,6) -> 0
A66: 10. | B66: Ξυλουργικές Εργασίες (πόρτες - ντουλάπες κ.λπ.) | C66: 0.0645 | E66: =ROUND(C66*D66,6) -> 0
A67: 11. | B67: Εξωτερικά Κουφώματα | C67: 0.0538 | E67: =ROUND(C67*D67,6) -> 0
A68: 12. | B68: Υαλοπίνακες | C68: 0.0107 | E68: =ROUND(C68*D68,6) -> 0
... A73: 17. | B73: Λοιπές εργασίες (τζάκι, πόμολα κ.λπ. ) | C73: 0.0179 | E73: =ROUND(C73*D73,6) -> 0
B74: ΣΥΝΟΛΟ | C74: =SUM(C57:C73) -> 1 | E74: =SUM(E57:E73) -> 0
A76: Παρατηρήσεις / Σημειώσεις (εάν υπάρχουν):

Sheet L41.01 ΚΤΗΡΙΑΚ ΥΠΟΔ ΠΕΡΙΒΑΛΛ
A1: L41.01 ΚΤΗΡΙΑΚΕΣ ΕΓΚΑΤΑΣΤΑΣΕΙΣ ΚΑΙ ΕΡΓΑ ΥΠΟΔΟΜΗΣ ΚΑΙ ΠΕΡΙΒΑΛΛΟΝΤΟΣ ΧΩΡΟΥ
A2: α/α | B2: ΕΙΔΟΣ ΔΑΠΑΝΗΣ | C2: Μ.Μ. | D2: ΠΟΣΟΤΗΤΑ | E2: ΑΝΩΤEΡΗ ΤΙΜΗ ΜΟΝΑΔΑΣ * | F2: ΑΙΤΟΥΜΕΝΟΣ ΠΡΟΥΠΟΛΟΓΙΣΜΟΣ
F3: ΑΙΤΟΥΜΕΝΗ ΤΙΜΗ ΜΟΝΑΔΑΣ | G3: ΠΟΣΟ | H3: ΦΠΑ | I3: ΣΥΝΟΛΟ | J3: Παρατηρήσεις
B4: ΚΤΙΡΙΑΚΕΣ ΕΓΚΑΤΑΣΤΑΣΕΙΣ & ΕΡΓΑ ΥΠΟΔΟΜΗΣ (Με απλοποιημένο κόστος) | G4: =SUM(G5:G8) -> 64000 | H4: =SUM(H5:H8) -> 10880 | I4: =SUM(I5:I8) -> 74880
A5: 1 | B5: Κύριοι Χώροι (εντός Σ.Δ.) | C5: τ.μ. | D5: 40 | E5: =IF(AND('ΤΙΜΕΣ ΑΠΛΟΠΟΙΗΜ'!C28="Σκελετός οπλισμένου σκυροδέματος",'ΤΙΜΕΣ ΑΠΛΟΠΟΙΗΜ'!C30="Συμβατικού τύπου"),'ΤΙΜΕΣ ΑΠΛΟΠΟΙΗΜ'!C6*(1+'ΤΙΜΕΣ ΑΠΛΟΠΟΙΗΜ'!D26),IF(AND('ΤΙΜΕΣ ΑΠΛΟΠΟΙΗΜ'!C28="Σκελετός οπλισμένου σκυροδέματος",'ΤΙΜΕΣ ΑΠΛΟΠΟΙΗΜ'!C30="Παραδοσιακά 15% πλέον του συμβατικού"),'ΤΙΜΕΣ ΑΠΛΟΠΟΙΗΜ'!C10*(1+'ΤΙΜΕΣ ΑΠΛΟΠΟΙΗΜ'!D26),IF(AND('ΤΙΜΕΣ ΑΠΛΟΠΟΙΗΜ'!C28="Σκελετός οπλισμένου σκυροδέματος",'ΤΙΜΕΣ ΑΠΛΟΠΟΙΗΜ'!C30="Διατηρητέα 30% πλέον του συμβατικού"),'ΤΙΜΕΣ ΑΠΛΟΠΟΙΗΜ'!C14*(1+'ΤΙΜΕΣ ΑΠΛΟΠΟΙΗΜ'!D26),IF(AND('ΤΙΜΕΣ ΑΠΛΟΠΟΙΗΜ'!C28="Μεταλλικός σκελετός",'ΤΙΜΕΣ ΑΠΛΟΠΟΙΗΜ'!C30="Συμβατικού τύπου"),'ΤΙΜΕΣ ΑΠΛΟΠΟΙΗΜ'!D6*(1+'ΤΙΜΕΣ ΑΠΛΟΠΟΙΗΜ'!D26),IF(AND('ΤΙΜΕΣ ΑΠΛΟΠΟΙΗΜ'!C28="Μεταλλικός σκελετός",'ΤΙΜΕΣ ΑΠΛΟΠΟΙΗΜ'!C30="Παραδοσιακά 15% πλέον του συμβατικού"),'ΤΙΜΕΣ ΑΠΛΟΠΟΙΗΜ'!D10*(1+'ΤΙΜΕΣ ΑΠΛΟΠΟΙΗΜ'!D26),""))))) -> 1578.27 | F5: 1500 | G5: =ROUND(D5*F5,2) -> 60000 | H5: =ROUND(G5*0.17,2) -> 10200 | I5: =G5+H5 -> 70200 | K5: Τιμές απλοποιημένου κόστους, και σύμφωνα με το διάγραμμα κάλυψης που υποβάλλεται με την αίτηση στήριξης.
A6: 2 | B6: Υπόγεια – βοηθητικές χρήσεις | C6: τ.μ. | D6: 2 | E6: =IF(AND('ΤΙΜΕΣ ΑΠΛΟΠΟΙΗΜ'!C28="Σκελετός οπλισμένου σκυροδέματος",'ΤΙΜΕΣ ΑΠΛΟΠΟΙΗΜ'!C30="Συμβατικού τύπου"),'ΤΙΜΕΣ ΑΠΛΟΠΟΙΗΜ'!C7*(1+'ΤΙΜΕΣ ΑΠΛΟΠΟΙΗΜ'!D26),IF(AND('ΤΙΜΕΣ ΑΠΛΟΠΟΙΗΜ'!C28="Σκελετός οπλισμένου σκυροδέματος",'ΤΙΜΕΣ ΑΠΛΟΠΟΙΗΜ'!C30="Παραδοσιακά 15% πλέον του συμβατικού"),'ΤΙΜΕΣ ΑΠΛΟΠΟΙΗΜ'!C11*(1+'ΤΙΜΕΣ ΑΠΛΟΠΟΙΗΜ'!D26),IF(AND('ΤΙΜΕΣ ΑΠΛΟΠΟΙΗΜ'!C28="Σκελετός οπλισμένου σκυροδέματος",'ΤΙΜΕΣ ΑΠΛΟΠΟΙΗΜ'!C30="Διατηρητέα 30% πλέον του συμβατικού"),'ΤΙΜΕΣ ΑΠΛΟΠΟΙΗΜ'!C15*(1+'ΤΙΜΕΣ ΑΠΛΟΠΟΙΗΜ'!D26),IF(AND('ΤΙΜΕΣ ΑΠΛΟΠΟΙΗΜ'!C28="Μεταλλικός σκελετός",'ΤΙΜΕΣ ΑΠΛΟΠΟΙΗΜ'!C30="Συμβατικού τύπου"),'ΤΙΜΕΣ ΑΠΛΟΠΟΙΗΜ'!D7*(1+'ΤΙΜΕΣ ΑΠΛΟΠΟΙΗΜ'!D26),IF(AND('ΤΙΜΕΣ ΑΠΛΟΠΟΙΗΜ'!C28="Μεταλλικός σκελετός",'ΤΙΜΕΣ ΑΠΛΟΠΟΙΗΜ'!C30="Παραδοσιακά 15% πλέον του συμβατικού"),'ΤΙΜΕΣ ΑΠΛΟΠΟΙΗΜ'!D11*(1+'ΤΙΜΕΣ ΑΠΛΟΠΟΙΗΜ'!D26),0))))) -> 789.14 | F6: 500 | G6: =ROUND(D6*F6,2) -> 1000 | H6: =ROUND(G6*0.17,2) -> 170 | I6: =G6+H6 -> 1170
A7: 3 | B7: Ημιυπαίθριοι χώροι | C7: τ.μ. | D7: 10 | E7: =IF(AND('ΤΙΜΕΣ ΑΠΛΟΠΟΙΗΜ'!C28="Σκελετός οπλισμένου σκυροδέματος",'ΤΙΜΕΣ ΑΠΛΟΠΟΙΗΜ'!C30="Συμβατικού τύπου"),'ΤΙΜΕΣ ΑΠΛΟΠΟΙΗΜ'!C8*(1+'ΤΙΜΕΣ ΑΠΛΟΠΟΙΗΜ'!D26),IF(AND('ΤΙΜΕΣ ΑΠΛΟΠΟΙΗΜ'!C28="Σκελετός οπλισμένου σκυροδέματος",'ΤΙΜΕΣ ΑΠΛΟΠΟΙΗΜ'!C30="Παραδοσιακά 15% πλέον του συμβατικού"),'ΤΙΜΕΣ ΑΠΛΟΠΟΙΗΜ'!C12*(1+'ΤΙΜΕΣ ΑΠΛΟΠΟΙΗΜ'!D26),IF(AND('ΤΙΜΕΣ ΑΠΛΟΠΟΙΗΜ'!C28="Σκελετός οπλισμένου σκυροδέματος",'ΤΙΜΕΣ ΑΠΛΟΠΟΙΗΜ'!C30="Διατηρητέα 30% πλέον του συμβατικού"),'ΤΙΜΕΣ ΑΠΛΟΠΟΙΗΜ'!C16*(1+'ΤΙΜΕΣ ΑΠΛΟΠΟΙΗΜ'!D26),IF(AND('ΤΙΜΕΣ ΑΠΛΟΠΟΙΗΜ'!C28="Μεταλλικός σκελετός",'ΤΙΜΕΣ ΑΠΛΟΠΟΙΗΜ'!C30="Συμβατικού τύπου"),'ΤΙΜΕΣ ΑΠΛΟΠΟΙΗΜ'!D8*(1+'ΤΙΜΕΣ ΑΠΛΟΠΟΙΗΜ'!D26),IF(AND('ΤΙΜΕΣ ΑΠΛΟΠΟΙΗΜ'!C28="Μεταλλικός σκελετός",'ΤΙΜΕΣ ΑΠΛΟΠΟΙΗΜ'!C30="Παραδοσιακά 15% πλέον του συμβατικού"),'ΤΙΜΕΣ ΑΠΛΟΠΟΙΗΜ'!D12*(1+'ΤΙΜΕΣ ΑΠΛΟΠΟΙΗΜ'!D26),0))))) -> 473.48 | F7: 300 | G7: =ROUND(D7*F7,2) -> 3000 | H7: =ROUND(G7*0.17,2) -> 510 | I7: =G7+H7 -> 3510
B8: …....................
B9: ΕΠΙΣΚΕΥΕΣ ΑΝΑΚΑΙΝΙΣΕΙΣ ΥΦΙΣΤΑΜΕΝΩΝ ΚΤΗΡΙΩΝ Οπλισμένου Σκυροδέματος ΚΤΙΡΙΑΚΕΣ ΕΓΚΑΤΑΣΤΑΣΕΙΣ & ΕΡΓΑ ΥΠΟΔΟΜΗΣ (Με απλοποιημένο κόστος) | G9: =SUM(G10:G13) -> 0 | H9: =SUM(H10:H13) -> 0 | I9: =SUM(I10:I13) -> 0
A10: 1 | B10: Κύριοι Χώροι (εντός Σ.Δ.) | C10: τ.μ. | E10: =ROUND(E5*'ΤΙΜΕΣ ΑΠΛΟΠΟΙΗΜ'!$E$53,2) -> 0 | F10: 1500 | G10: =ROUND(D10*F10,2) -> 0 | H10: =ROUND(G10*0.17,2) -> 0 | I10: =G10+H10 -> 0 | K10: Τιμές απλοποιημένου κόστους, και σύμφωνα με το διάγραμμα κάλυψης που υποβάλλεται με την αίτηση στήριξης.
A11: 2 | B11: Υπόγεια – βοηθητικές χρήσεις | C11: τ.μ. | E11: =ROUND(E6*'ΤΙΜΕΣ ΑΠΛΟΠΟΙΗΜ'!$E$53,2) -> 0 | F11: 500 | G11: =ROUND(D11*F11,2) -> 0 | H11: =ROUND(G11*0.17,2) -> 0 | I11: =G11+H11 -> 0
A12: 3 | B12: Ημιυπαίθριοι χώροι | C12: τ.μ. | E12: =ROUND(E7*'ΤΙΜΕΣ ΑΠΛΟΠΟΙΗΜ'!$E$53,2) -> 0 | F12: 300 | G12: =ROUND(D12*F12,2) -> 0 | H12: =ROUND(G12*0.17,2) -> 0 | I12: =G12+H12 -> 0
B13: …...............
B14: ΕΠΙΣΚΕΥΕΣ ΑΝΑΚΑΙΝΙΣΕΙΣ ΥΦΙΣΤΑΜΕΝΩΝ ΚΤΗΡΙΩΝ Μεταλλικού Σκελετού ΚΤΙΡΙΑΚΕΣ ΕΓΚΑΤΑΣΤΑΣΕΙΣ & ΕΡΓΑ ΥΠΟΔΟΜΗΣ (Με απλοποιημένο κόστος) | G14: =SUM(G15:G18) -> 15800 | H14: =SUM(H15:H18) -> 2686 | I14: =SUM(I15:I18) -> 18486
A15: 1 | B15: Κύριοι Χώροι (εντός Σ.Δ.) | C15: τ.μ. | D15: 10 | E15: =ROUND(E5*'ΤΙΜΕΣ ΑΠΛΟΠΟΙΗΜ'!$E$74,2) -> 0 | F15: 1500 | G15: =ROUND(D15*F15,2) -> 15000 | H15: =ROUND(G15*0.17,2) -> 2550 | I15: =G15+H15 -> 17550 | K15: Τιμές απλοποιημένου κόστους, και σύμφωνα με το διάγραμμα κάλυψης που υποβάλλεται με την αίτηση στήριξης.
A16: 2 | B16: Υπόγεια – βοηθητικές χρήσεις | C16: τ.μ. | D16: 1 | E16: =ROUND(E6*'ΤΙΜΕΣ ΑΠΛΟΠΟΙΗΜ'!$E$74,2) -> 0 | F16: 500 | G16: =ROUND(D16*F16,2) -> 500 | H16: =ROUND(G16*0.17,2) -> 85 | I16: =G16+H16 -> 585
A17: 3 | B17: Ημιυπαίθριοι χώροι | C17: τ.μ. | D17: 1 | E17: =ROUND(E7*'ΤΙΜΕΣ ΑΠΛΟΠΟΙΗΜ'!$E$74,2) -> 0 | F17: 300 | G17: =ROUND(D17*F17,2) -> 300 | H17: =ROUND(G17*0.17,2) -> 51 | I17: =G17+H17 -> 351
B18: …......................
B19: ΔΑΠΑΝΕΣ ΠΕΡΙΒΑΛΛΟΝΤΟΣ ΧΩΡΟΥ (Με απλοποιημένο κόστος) | G19: =SUM(G20:G25) -> 250 | H19: =SUM(H20:H25) -> 42.5 | I19: =SUM(I20:I25) -> 292.5
A20: 1 | B20: Όταν οι εργασίες περιλαμβάνουν κατ' ελάχιστο: Χωματουργικά - έργα πρασίνου, εξωτερικό φωτισμό, εσωτερική του οικοπέδου απορροή υδάτων, παιδική χαρά, γήπεδο και πρίφραξη του οικοπέδου, δίδεται μέγιστη τιμή 100€ Χ Εμβαδόν Ακάλυπτου Περιβάλλοντος Χώρου (ΕΑΠΧ) (= Εμβαδόν Οικοπέδου - Πραγματοποιούμενη κάλυψη κτιρίων) | C20: τ.μ. | D20: 1 | E20: =ROUND(D20*100,2) -> 100 | F20: 80 | G20: =ROUND(D20*F20,2) -> 80 | H20: =ROUND(G20*0.17,2) -> 13.6 | I20: =G20+H20 -> 93.6 | K20: Τιμές απλοποιημένου κόστους μόνο εφόσον περιλαμβάνονται όλες οι αναφερόμενες εργασίες, και σύμφωνα με το διάγραμμα κάλυψης που υποβάλλεται με την αίτηση στήριξης.
A21: 2 | B21: ...... | D21: 10 | E21: - | F21: 10 | G21: =ROUND(D21*F21,2) -> 100 | H21: =ROUND(G21*0.17,2) -> 17 | I21: =G21+H21 -> 117 | K21: Περιγραφή εργασιών που δεν εμπίπτουν στην παραπάνω περίπτωση. Απαιτούνται προσφορές σύμφωνα με τον Οδηγό Υποβολής της πρόσκλησης.
A22: 3 | B22: …... | D22: 2 | E22: - | F22: 10 | G22: =ROUND(D22*F22,2) -> 20 | H22: =ROUND(G22*0.17,2) -> 3.4 | I22: =G22+H22 -> 23.4
A23: 4 | B23: .. | D23: 2 | E23: - | F23: 10 | G23: =ROUND(D23*F23,2) -> 20 | H23: =ROUND(G23*0.17,2) -> 3.4 | I23: =G23+H23 -> 23.4
A24: 5 | B24: …... | D24: 2 | E24: - | F24: 10 | G24: =ROUND(D24*F24,2) -> 20 | H24: =ROUND(G24*0.17,2) -> 3.4 | I24: =G24+H24 -> 23.4
A25: .. | B25: …................. | D25: 1 | E25: - | F25: 10 | G25: =ROUND(D25*F25,2) -> 10 | H25: =ROUND(G25*0.17,2) -> 1.7 | I25: =G25+H25 -> 11.7
B26: ΣΥΝΟΛΟ ΚΤΗΡΙΑΚΩΝ | G26: =G4+G9+G14+G19 -> 80050 | H26: =H4+H9+H14+H19 -> 13608.5 | I26: =I4+I9+I14+I19 -> 93658.5
A27: * Σημειώνεται ότι η εγκεκριμένη τιμή μονάδος, μπορεί να ανέρχεται έως την ανώτερη τιμή μονάδας όπως προκύπτει μετά τον υπολογισμό του απλοποιημένου κόστους, και εμφανίζεται στη συγκεκριμένη στήλη.

Sheet L41.02 ΜΗΧΑΝΟΛ ΕΞΟΠΛ
A1: L41.02 ΜΗΧΑΝΟΛΟΓΙΚΟΣ ΕΞΟΠΛΙΣΜΟΣ
A2: α/α | B2: ΕΙΔΟΣ ΔΑΠΑΝΗΣ* | C2: Μ.Μ. | D2: ΠΟΣΟΤΗΤΑ | E2: ΑΝΩΤΕΡΗ ΤΙΜΗ απλοποιημένου κόστους | F2: ΑΙΤΟΥΜΕΝΗ ΤΙΜΗ ΜΟΝΑΔΑΣ | G2: ΠΟΣΟ | H2: ΦΠΑ | I2: ΣΥΝΟΛΟ | J2: ΠΑΡΑΤΗΡΗΣΕΙΣ
A3: 1 | B3: Υποσταθμός μέσης τάσης (ανώτερη τιμή 90€/KVA) | C3: KVA | D3: 10 | E3: =ROUND(D3*90,2) -> 900 | F3: 700 | G3: =ROUND(D3*F3,2) -> 7000 | H3: =ROUND(G3*0.17,2) -> 1190 | I3: =G3+H3 -> 8190 | J3: Δίδονται ανώτερες τιμές απλοποιημένου κόστους
A4: 2 | B4: Κλιματισμός - θέρμανση | C4: τ.μ. | D4: 1 | E4: =ROUND(D4*700*0.1,2) -> 70 | G4: =ROUND(D4*F4,2) -> 0 | H4: =ROUND(G4*0.17,2) -> 0 | I4: =G4+H4 -> 0 | J4: Δίδονται ανώτερες τιμές απλοποιημένου κόστους
A5: 3 | B5: Πυροπροστασία | C5: τ.μ. | D5: 1 | E5: =ROUND(D5*40,2) -> 40 | G5: =ROUND(D5*F5,2) -> 0 | H5: =ROUND(G5*0.17,2) -> 0 | I5: =G5+H5 -> 0 | J5: Δίδονται ανώτερες τιμές απλοποιημένου κόστους
A6: 4 | B6: …...... | D6: 1 | E6: - | F6: 10 | G6: =ROUND(D6*F6,2) -> 10 | H6: =ROUND(G6*0.17,2) -> 1.7 | I6: =G6+H6 -> 11.7
A7: 5 | B7: …...... | D7: 1 | E7: - | G7: =ROUND(D7*F7,2) -> 0 | H7: =ROUND(G7*0.17,2) -> 0 | I7: =G7+H7 -> 0
D8: 2 | E8: - | F8: 20 | G8: =ROUND(D8*F8,2) -> 40 | H8: =ROUND(G8*0.17,2) -> 6.8 | I8: =G8+H8 -> 46.8
E9: - | G9: =ROUND(D9*F9,2) -> 0 | H9: =ROUND(G9*0.17,2) -> 0 | I9: =G9+H9 -> 0
E10: - | G10: =ROUND(D10*F10,2) -> 0 | H10: =ROUND(G10*0.17,2) -> 0 | I10: =G10+H10 -> 0
E11: - | G11: =ROUND(D11*F11,2) -> 0 | H11: =ROUND(G11*0.17,2) -> 0 | I11: =G11+H11 -> 0
A12: …...... | B12: …..... | E12: - | G12: =ROUND(D12*F12,2) -> 0 | H12: =ROUND(G12*0.17,2) -> 0 | I12: =G12+H12 -> 0
B13: ΣΥΝΟΛΟ ΛΟΙΠΩΝ ΔΑΠΑΝΩΝ | G13: =SUM(G3:G12) -> 7050 | H13: =SUM(H3:H12) -> 1198.5 | I13: =SUM(I3:I12) -> 8248.5
A14: * | B14: Διαμορφώνεται ανάλογα με την προτεινόμενη πρόταση

Sheet L41... ΛΟΙΠΑ
A1: L41.03 ΛΟΙΠΟΣ ΕΞΟΠΛΙΣΜΟΣ
A2: α/α | B2: ΕΙΔΟΣ ΔΑΠΑΝΗΣ* | C2: Μ.Μ. | D2: ΠΟΣΟΤΗΤΑ | E2: ΤΙΜΗ ΜΟΝΑΔΑΣ | F2: ΠΟΣΟ | G2: ΦΠΑ | H2: ΣΥΝΟΛΟ | I2: ΠΑΡΑΤΗΡΗΣΕΙΣ
A3: 1 | D3: 1 | E3: 10 | F3: =ROUND(D3*E3,2) -> 10 | G3: =ROUND(F3*0.17,2) -> 1.7 | H3: =F3+G3 -> 11.7
A4: 2 | D4: 1 | E4: 10 | F4: =ROUND(D4*E4,2) -> 10 | G4: =ROUND(F4*0.17,2) -> 1.7 | H4: =F4+G4 -> 11.7
A5: … | F5: =ROUND(D5*E5,2) -> 0 | G5: =ROUND(F5*0.17,2) -> 0 | H5: =F5+G5 -> 0
A6: … | F6: =ROUND(D6*E6,2) -> 0 | G6: =ROUND(F6*0.17,2) -> 0 | H6: =F6+G6 -> 0
A7: … | F7: =ROUND(D7*E7,2) -> 0 | G7: =ROUND(F7*0.17,2) -> 0 | H7: =F7+G7 -> 0
F8: =ROUND(D8*E8,2) -> 0 | G8: =ROUND(F8*0.17,2) -> 0 | H8: =F8+G8 -> 0
F9: =ROUND(D9*E9,2) -> 0 | G9: =ROUND(F9*0.17,2) -> 0 | H9: =F9+G9 -> 0
B10: ΣΥΝΟΛΟ ΛΟΙΠΟΥ ΕΞΟΠΛΙΣΜΟΥ | F10: =SUM(F3:F9) -> 20 | G10: =SUM(G3:G9) -> 3.4 | H10: =SUM(H3:H9) -> 23.4
A11: * | B11: Διαμορφώνεται ανάλογα με την προτεινόμενη πρόταση
A14: L41.04 ΕΞΟΠΛΙΣΜΟΣ ΑΠΕ
A15: α/α | B15: ΕΙΔΟΣ ΔΑΠΑΝΗΣ* | C15: Μ.Μ. | D15: ΠΟΣΟΤΗΤΑ | E15: ΤΙΜΗ ΜΟΝΑΔΑΣ | F15: ΠΟΣΟ | G15: ΦΠΑ | H15: ΣΥΝΟΛΟ | I15: ΠΑΡΑΤΗΡΗΣΕΙΣ
A16: 1 | F16: =ROUND(D16*E16,2) -> 0 | G16: =ROUND(F16*0.17,2) -> 0 | H16: =F16+G16 -> 0
A17: 2 | F17: =ROUND(D17*E17,2) -> 0 | G17: =ROUND(F17*0.17,2) -> 0 | H17: =F17+G17 -> 0
A18: 3 | F18: =ROUND(D18*E18,2) -> 0 | G18: =ROUND(F18*0.17,2) -> 0 | H18: =F18+G18 -> 0
A19: 4 | F19: =ROUND(D19*E19,2) -> 0 | G19: =ROUND(F19*0.17,2) -> 0 | H19: =F19+G19 -> 0
A20: 5 | F20: =ROUND(D20*E20,2) -> 0 | G20: =ROUND(F20*0.17,2) -> 0 | H20: =F20+G20 -> 0
A21: 6 | F21: =ROUND(D21*E21,2) -> 0 | G21: =ROUND(F21*0.17,2) -> 0 | H21: =F21+G21 -> 0
B22: ΣΥΝΟΛΟ ΔΑΠΑΝΩΝ ΑΠΕ | F22: =SUM(F16:F21) -> 0 | G22: =SUM(G16:G21) -> 0 | H22: =SUM(H16:H21) -> 0
A23: * | B23: Διαμορφώνεται ανάλογα με την προτεινόμενη πρόταση
A27: L41.06 ΔΑΠΑΝΗ ΥΠΟΒΟΛΗΣ ΦΑΚΕΛΟΥ ΚΑΙ ΤΕΧΝΙΚΗ ΣΤΗΡΙΞΗ ΓΙΑ ΤΗΝ ΥΛΟΠΟΙΗΣΗ ΤΟΥ ΕΡΓΟΥ (Μπορεί να συμπληρωθεί για τις πράξεις όλων των υπο-παρεμβάσεων)
A28: α/α | B28: ΕΙΔΟΣ ΔΑΠΑΝΗΣ* | C28: Μ.Μ. | D28: ΠΟΣΟΤΗΤΑ | E28: ΤΙΜΗ ΜΟΝΑΔΑΣ | F28: ΠΟΣΟ | G28: ΦΠΑ | H28: ΣΥΝΟΛΟ | I28: ΠΑΡΑΤΗΡΗΣΕΙΣ
A29: 1 | F29: =ROUND(D29*E29,2) -> 0 | G29: =ROUND(F29*0.17,2) -> 0 | H29: =F29+G29 -> 0
A30: 2 | F30: =ROUND(D30*E30,2) -> 0 | G30: =ROUND(F30*0.17,2) -> 0 | H30: =F30+G30 -> 0
A31: 3 | F31: =ROUND(D31*E31,2) -> 0 | G31: =ROUND(F31*0.17,2) -> 0 | H31: =F31+G31 -> 0
A32: 4 | F32: =ROUND(D32*E32,2) -> 0 | G32: =ROUND(F32*0.17,2) -> 0 | H32: =F32+G32 -> 0
A33: 5 | D33: 5 | E33: 20 | F33: =ROUND(D33*E33,2) -> 100 | G33: =ROUND(F33*0.17,2) -> 17 | H33: =F33+G33 -> 117
A34: 6 | F34: =ROUND(D34*E34,2) -> 0 | G34: =ROUND(F34*0.17,2) -> 0 | H34: =F34+G34 -> 0
B35: ΣΥΝΟΛΟ ΔΑΠΑΝΩΝ ΦΑΚΕΛΟΥ ΚΑΙ ΤΕΧ ΥΠΟΣΤ | F35: =SUM(F29:F34) -> 100 | G35: =SUM(G29:G34) -> 17 | H35: =SUM(H29:H34) -> 117
A36: * | B36: Διαμορφώνεται ανάλογα με την προτεινόμενη πρόταση - Για δυνητικούς δικαιούχους οι οποίοι ακολουθούν διαδικασίες δημοσίων συμβάσεων για την ανάθεση των έργων, οι συγκεκριμένες δαπάνες, είναι επιλέξιμες μόνο στην περίπτωση που δεν διαθέτουν τεχνική επάρκεια. - Το σύνολο της κατηγορίας δαπάνης δεν θα πρέπει να υπερβαίνει τις 4.000€ πλέον ΦΠΑ. - Δεν απαιτούνται προσφορές για την τεκμηρίωση του εύλογου κόστους για την συγκεκριμένη κατηγορία δαπάνης
A40: L41.07 ΔΑΠΑΝΕΣ ΕΝΗΜΕΡΩΣΗΣ ΠΡΟΒΟΛΗΣ
A41: α/α | B41: ΕΙΔΟΣ ΔΑΠΑΝΗΣ* | C41: Μ.Μ. | D41: ΠΟΣΟΤΗΤΑ | E41: ΤΙΜΗ ΜΟΝΑΔΑΣ | F41: ΠΟΣΟ | G41: ΦΠΑ | H41: ΣΥΝΟΛΟ | I41: ΠΑΡΑΤΗΡΗΣΕΙΣ
A42: 1 | D42: 6 | E42: 20 | F42: =ROUND(D42*E42,2) -> 120 | G42: =ROUND(F42*0.17,2) -> 20.4 | H42: =F42+G42 -> 140.4
A43: 2 | F43: =ROUND(D43*E43,2) -> 0 | G43: =ROUND(F43*0.17,2) -> 0 | H43: =F43+G43 -> 0
A44: 3 | F44: =ROUND(D44*E44,2) -> 0 | G44: =ROUND(F44*0.17,2) -> 0 | H44: =F44+G44 -> 0
A45: 4 | F45: =ROUND(D45*E45,2) -> 0 | G45: =ROUND(F45*0.17,2) -> 0 | H45: =F45+G45 -> 0
A46: 5 | F46: =ROUND(D46*E46,2) -> 0 | G46: =ROUND(F46*0.17,2) -> 0 | H46: =F46+G46 -> 0
A47: 6 | F47: =ROUND(D47*E47,2) -> 0 | G47: =ROUND(F47*0.17,2) -> 0 | H47: =F47+G47 -> 0
B48: ΣΥΝΟΛΟ ΔΑΠΑΝΩΝ ΕΝΗΜΕΡΩΣΗΣ | F48: =SUM(F42:F47) -> 120 | G48: =SUM(G42:G47) -> 20.4 | H48: =SUM(H42:H47) -> 140.4
A49: *
A53: L41.08 ΟΡΓΑΝΩΣΗ ΠΟΛΙΤΙΣΤΙΚΩΝ ΔΡΩΜΕΝΩΝ (συμπληρώνεται μόνο για πράξεις της υπο-παρεμβασης Π3-77-4.1-5.1 "Ενίσχυση πολιτιστικών ή αθλητικών εκδηλώσεων"
A54: α/α | B54: ΕΙΔΟΣ ΔΑΠΑΝΗΣ* | C54: Μ.Μ. | D54: ΠΟΣΟΤΗΤΑ | E54: ΤΙΜΗ ΜΟΝΑΔΑΣ | F54: ΠΟΣΟ | G54: ΦΠΑ | H54: ΣΥΝΟΛΟ | I54: ΠΑΡΑΤΗΡΗΣΕΙΣ
A55: 1 | D55: 7 | E55: 20 | F55: =ROUND(D55*E55,2) -> 140 | G55: =ROUND(F55*0.17,2) -> 23.8 | H55: =F55+G55 -> 163.8
A56: 2 | F56: =ROUND(D56*E56,2) -> 0 | G56: =ROUND(F56*0.17,2) -> 0 | H56: =F56+G56 -> 0
A57: 3 | F57: =ROUND(D57*E57,2) -> 0 | G57: =ROUND(F57*0.17,2) -> 0 | H57: =F57+G57 -> 0
A58: 4 | F58: =ROUND(D58*E58,2) -> 0 | G58: =ROUND(F58*0.17,2) -> 0 | H58: =F58+G58 -> 0
A59: 5 | F59: =ROUND(D59*E59,2) -> 0 | G59: =ROUND(F59*0.17,2) -> 0 | H59: =F59+G59 -> 0
A60: 6 | F60: =ROUND(D60*E60,2) -> 0 | G60: =ROUND(F60*0.17,2) -> 0 | H60: =F60+G60 -> 0
B61: ΣΥΝΟΛΟ ΠΟΛΙΤΙΣΤΙΚΩΝ ΔΡΩΜΕΝΩΝ | F61: =SUM(F55:F60) -> 140 | G61: =SUM(G55:G60) -> 23.8 | H61: =SUM(H55:H60) -> 163.8
A62: * | B62: και διαμορφώνεται ανάλογα με την προτεινόμενη πρόταση
A66: L41.10 ΜΕΛΕΤΕΣ ΓΙΑ ΤΗΝ ΕΚΔΟΣΗ ΟΙΚΟΔΟΜΙΚΗΣ ΑΔΕΙΑΣ ΚΑΙ ΛΟΙΠΕΣ ΜΕΛΕΤΕΣ ΓΙΑ ΤΗΝ ΕΚΤΕΛΕΣΗ ΤΟΥ ΕΡΓΟΥ (Μπορεί να συμπληρωθεί για πράξεις της υπο-παρεμβασης : α) Π3-77-4.1-3.1 "Ενίσχυση βασικών υπηρεσιών για την εξυπηρέτηση του τοπικού πληθυσμού (παιδικοί σταθμοί, χώροι άθλησης, πολιτιστικά κέντρα κλπ)." β) Π3-77-4.1-4.1" Έργα υποδομών μικρής κλίμακας.
A67: α/α | B67: ΕΙΔΟΣ ΔΑΠΑΝΗΣ* | C67: Μ.Μ. | D67: ΠΟΣΟΤΗΤΑ | E67: ΤΙΜΗ ΜΟΝΑΔΑΣ | F67: ΠΟΣΟ | G67: ΦΠΑ | H67: ΣΥΝΟΛΟ | I67: ΠΑΡΑΤΗΡΗΣΕΙΣ
A68: 1 | D68: 8 | E68: 20 | F68: =ROUND(D68*E68,2) -> 160 | G68: =ROUND(F68*0.17,2) -> 27.2 | H68: =F68+G68 -> 187.2
A69: 2 | F69: =ROUND(D69*E69,2) -> 0 | G69: =ROUND(F69*0.17,2) -> 0 | H69: =F69+G69 -> 0
A70: 3 | B70: …... | F70: =ROUND(D70*E70,2) -> 0 | G70: =ROUND(F70*0.17,2) -> 0 | H70: =F70+G70 -> 0
A71: 4 | F71: =ROUND(D71*E71,2) -> 0 | G71: =ROUND(F71*0.17,2) -> 0 | H71: =F71+G71 -> 0
A72: 5 | D72: 5 | E72: 20 | F72: =ROUND(D72*E72,2) -> 100 | G72: =ROUND(F72*0.17,2) -> 17 | H72: =F72+G72 -> 117
A73: 6 | F73: =ROUND(D73*E73,2) -> 0 | G73: =ROUND(F73*0.17,2) -> 0 | H73: =F73+G73 -> 0
B74: ΣΥΝΟΛΟ ΔΑΠΑΝΩΝ ΜΕΛΕΤΩΝ | F74: =SUM(F68:F73) -> 260 | G74: =SUM(G68:G73) -> 44.2 | H74: =SUM(H68:H73) -> 304.2
A75: * | B75: Διαμορφώνεται ανάλογα με την προτεινόμενη πρόταση - Για δυνητικούς δικαιούχους οι οποίοι ακολουθούν διαδικασίες δημοσίων συμβάσεων για την ανάθεση των έργων, οι συγκεκριμένες δαπάνες, είναι επιλέξιμες μόνο στην περίπτωση που δεν διαθέτουν τεχνική επάρκεια. - Έως το 12% του συνολικού αιτούμενου Π/Υ της πράξης - Δεν απαιτούνται προσφορές για την τεκμηρίωση του εύλογου κόστους για την συγκεκριμένη κατηγορία δαπάνης
